BEGIN:VCALENDAR
VERSION:2.0
PRODID:-//We Homeschool Together - ECPv6.15.20//NONSGML v1.0//EN
CALSCALE:GREGORIAN
METHOD:PUBLISH
X-WR-CALNAME:We Homeschool Together
X-ORIGINAL-URL:https://wehomeschooltogether.com
X-WR-CALDESC:Events for We Homeschool Together
REFRESH-INTERVAL;VALUE=DURATION:PT1H
X-Robots-Tag:noindex
X-PUBLISHED-TTL:PT1H
BEGIN:VTIMEZONE
TZID:America/New_York
BEGIN:DAYLIGHT
TZOFFSETFROM:-0500
TZOFFSETTO:-0400
TZNAME:EDT
DTSTART:20250309T070000
END:DAYLIGHT
BEGIN:STANDARD
TZOFFSETFROM:-0400
TZOFFSETTO:-0500
TZNAME:EST
DTSTART:20251102T060000
END:STANDARD
BEGIN:DAYLIGHT
TZOFFSETFROM:-0500
TZOFFSETTO:-0400
TZNAME:EDT
DTSTART:20260308T070000
END:DAYLIGHT
BEGIN:STANDARD
TZOFFSETFROM:-0400
TZOFFSETTO:-0500
TZNAME:EST
DTSTART:20261101T060000
END:STANDARD
BEGIN:DAYLIGHT
TZOFFSETFROM:-0500
TZOFFSETTO:-0400
TZNAME:EDT
DTSTART:20270314T070000
END:DAYLIGHT
BEGIN:STANDARD
TZOFFSETFROM:-0400
TZOFFSETTO:-0500
TZNAME:EST
DTSTART:20271107T060000
END:STANDARD
END:VTIMEZONE
BEGIN:VEVENT
DTSTART;TZID=America/New_York:20260415T123000
DTEND;TZID=America/New_York:20260415T134500
DTSTAMP:20260423T112840
CREATED:20260412T121956Z
LAST-MODIFIED:20260412T121956Z
UID:3633-1776256200-1776260700@wehomeschooltogether.com
SUMMARY:Homeschool: Candles
DESCRIPTION:Elementary School Upcycle and Recycle Science Course Ages 8-10 Instructor: Peyton White\, MSc Location: Science Center (suite 5) Course fee: $220 OR $20/lab 10% off sibling discount Students investigate the physical and chemical properties of wax as they melt down old materials to create new candles.
URL:https://wehomeschooltogether.com/event/homeschool-candles/
CATEGORIES:Museum & Education
END:VEVENT
END:VCALENDAR